Felt | Verdi |
AlreadyApplied | True |
Aperture | 22.0 |
ApertureValue | 22.0 |
ApproximateFocusDistance | 0.68 |
AutoLateralCA | 1 |
BitsPerSample | 8 |
Blacks2012 | 0 |
BlueHue | -19 |
BlueSaturation | -28 |
CameraProfile | Adobe Standard |
CircleOfConfusion | 0.016 mm |
Clarity2012 | +1 |
ColorComponents | 3 |
ColorNoiseReduction | 25 |
ColorNoiseReductionDetail | 50 |
ColorNoiseReductionSmoothness | 50 |
ColorSpace | sRGB |
ColorTemperature | 5750 |
ColorTransform | YCbCr |
Contrast2012 | +17 |
ConvertToGrayscale | False |
CreateDate (1) | 2019:01:08 15:10:18.97 |
CreateDate | 2019:01:08 15:10:18 |
CreatorTool | Adobe Photoshop Lightroom Classic 7.5 (Macintosh) |
CropAngle | 1.23678 |
CropBottom | 1 |
CropConstrainToWarp | 0 |
CropLeft | 0.192807 |
CropRight | 0.986059 |
CropTop | 0.005228 |
CustomRendered | Normal |
DateCreated (1) | 2019:01:08 |
DateCreated | 2019:01:08 15:10:18.97 |
DateTimeOriginal | 2019:01:08 15:10:18 |
DefringeGreenAmount | 0 |
DefringeGreenHueHi | 60 |
DefringeGreenHueLo | 40 |
DefringePurpleAmount | 0 |
DefringePurpleHueHi | 70 |
DefringePurpleHueLo | 30 |
Dehaze | 0 |
DistortionCorrectionAlreadyApplied | True |
DOF | inf (0.20 m - inf) |
Exposure2012 | 0.00 |
ExposureCompensation | 0 |
ExposureMode | Manual |
ExposureProgram | Manual |
ExposureTime | 1/6 |
Firmware | 1.0.1 |
Flash | Off, Did not fire |
FlashCompensation | 0 |
FNumber | 22.0 |
FocalLength | 10.0 mm |
FocalLength35efl | 10.0 mm (35 mm equivalent: 18.8 mm) |
Format | image/jpeg |
FOV | 87.7 deg |
GrainAmount | 0 |
GreenHue | -9 |
GreenSaturation | 0 |
HasCrop | True |
HasSettings | True |
Highlights2012 | -20 |
HueAdjustmentAqua | 0 |
HueAdjustmentBlue | -5 |
HueAdjustmentGreen | 0 |
HueAdjustmentMagenta | 0 |
HueAdjustmentOrange | 0 |
HueAdjustmentPurple | 0 |
HueAdjustmentRed | +24 |
HueAdjustmentYellow | -33 |
HyperfocalDistance | 0.28 m |
ImageHeight | 4844 |
ImageNumber | 0 |
ImageSize | 3875x4844 |
ImageWidth | 3875 |
ISO | 100 |
LateralChromaticAberrationCorrectionAlreadyApplied | True |
Lens | EF-S10-18mm f/4.5-5.6 IS STM |
LensID (1) | 4150 |
LensID | Canon EF-S 10-18mm f/4.5-5.6 IS STM |
LensInfo | 10-18mm f/? |
LensManualDistortionAmount | 0 |
LensModel | EF-S10-18mm f/4.5-5.6 IS STM |
LensProfileChromaticAberrationScale | 100 |
LensProfileDistortionScale | 100 |
LensProfileEnable | 1 |
LensProfileFilename | Canon EOS 50D (Canon EF-S 10-18mm f4.5-5.6 IS STM) - RAW.lcp |
LensProfileName | Adobe (Canon EF-S 10-18mm f/4.5-5.6 IS STM) |
LensProfileSetup | LensDefaults |
LensProfileVignettingScale | 100 |
LensSerialNumber | 00000c70c7 |
LightValue | 11.5 |
LookName | |
LuminanceAdjustmentAqua | -22 |
LuminanceAdjustmentBlue | -26 |
LuminanceAdjustmentGreen | 0 |
LuminanceAdjustmentMagenta | 0 |
LuminanceAdjustmentOrange | -12 |
LuminanceAdjustmentPurple | -13 |
LuminanceAdjustmentRed | -9 |
LuminanceAdjustmentYellow | -12 |
LuminanceNoiseReductionContrast | 0 |
LuminanceNoiseReductionDetail | 50 |
LuminanceSmoothing | 19 |
Make | Canon |
MaxApertureValue | 4.6 |
Megapixels | 18.8 |
MeteringMode | Multi-segment |
Model | Canon EOS 200D |
ModifyDate (1) | 2019:01:08 15:34:13+01:00 |
ModifyDate | 2019:01:08 15:34:13 |
OverrideLookVignette | False |
ParametricDarks | 0 |
ParametricHighlights | 0 |
ParametricHighlightSplit | 75 |
ParametricLights | 0 |
ParametricMidtoneSplit | 50 |
ParametricShadows | 0 |
ParametricShadowSplit | 25 |
PerspectiveAspect | 0 |
PerspectiveHorizontal | 0 |
PerspectiveRotate | 0.0 |
PerspectiveScale | 100 |
PerspectiveUpright | 0 |
PerspectiveVertical | 0 |
PerspectiveX | 0.00 |
PerspectiveY | 0.00 |
PostCropVignetteAmount | 0 |
ProcessVersion | 10.0 |
ProfileDescription | sRGB IEC61966-2.1 |
Rating | 4 |
RawFileName | IMG_3033.CR2 |
RecommendedExposureIndex | 100 |
RedHue | +16 |
RedSaturation | -19 |
Saturation | -24 |
SaturationAdjustmentAqua | -23 |
SaturationAdjustmentBlue | -44 |
SaturationAdjustmentGreen | -45 |
SaturationAdjustmentMagenta | -23 |
SaturationAdjustmentOrange | -2 |
SaturationAdjustmentPurple | -38 |
SaturationAdjustmentRed | 0 |
SaturationAdjustmentYellow | -32 |
ScaleFactor35efl | 1.9 |
SceneCaptureType | Standard |
SensitivityType | Recommended Exposure Index |
SerialNumber | 113071003459 |
Shadows2012 | +73 |
ShadowTint | 0 |
SharpenDetail | 25 |
SharpenEdgeMasking | 47 |
SharpenRadius | +1.0 |
Sharpness | 40 |
ShutterSpeed | 1/6 |
ShutterSpeedValue | 1/6 |
Software | Adobe Photoshop Lightroom Classic 7.5 (Macintosh) |
SplitToningBalance | 0 |
SplitToningHighlightHue | 0 |
SplitToningHighlightSaturation | 0 |
SplitToningShadowHue | 0 |
SplitToningShadowSaturation | 0 |
Tint | +15 |
ToneCurve | 0, 0, 255, 255 |
ToneCurveBlue | 0, 0, 255, 255 |
ToneCurveGreen | 0, 0, 255, 255 |
ToneCurveName | Linear |
ToneCurveName2012 | Custom |
ToneCurvePV2012 | 0, 0, 37, 34, 65, 70, 94, 121, 182, 217, 221, 239, 252, 250 |
ToneCurvePV2012Blue | 0, 0, 53, 52, 112, 106, 189, 191, 255, 255 |
ToneCurvePV2012Green | 0, 0, 59, 57, 124, 125, 184, 189, 218, 220, 255, 255 |
ToneCurvePV2012Red | 0, 0, 60, 57, 151, 155, 187, 189, 215, 211, 255, 250 |
ToneCurveRed | 0, 0, 255, 255 |
ToneMapStrength | 0 |
Version | 10.5 |
Vibrance | 0 |
VignetteAmount | 0 |
VignetteCorrectionAlreadyApplied | True |
WhiteBalance (1) | As Shot |
WhiteBalance | Auto |
Whites2012 | 0 |